BEGIN:VCALENDAR
VERSION:2.0
PRODID:-//Münchner Ernährungsrat e.V.//NONSGML kigkonsult.se iCalcreator 2.
 30.10//
CALSCALE:GREGORIAN
METHOD:PUBLISH
UID:d71ee33b-8f23-4f5b-b60d-47f613fea509
X-WR-CALNAME:iCagenda
X-WR-CALDESC:Event Management Extension for Joomla!
X-WR-RELCALID:3E26604A-50F4-4449-8B3E-E4F4932D05B5
X-WR-TIMEZONE:Europe/Berlin
BEGIN:VTIMEZONE
TZID:Europe/Berlin
BEGIN:STANDARD
TZNAME:CET
DTSTART:20241027T030000
TZOFFSETFROM:+0200
TZOFFSETTO:+0100
RDATE:20251026T030000
RDATE:20261025T030000
END:STANDARD
BEGIN:DAYLIGHT
TZNAME:CEST
DTSTART:20250330T020000
TZOFFSETFROM:+0100
TZOFFSETTO:+0200
RDATE:20260329T020000
END:DAYLIGHT
END:VTIMEZONE
BEGIN:VEVENT
UID:2669ce9d-30cb-4749-b966-06c28d59185e
DTSTAMP:20260420T064031Z
CATEGORIES:WORKSHOPS
CLASS:PUBLIC
DESCRIPTION;ALTREP="CID:<FFFF__=0ABBE548DFE235B58f9e8a93d@coffeebean.com>":
 Coole &amp\; gesunde Snacks\nNaschen erlaubt – und zwar richtig lecker\, k
 reativ und gesund!\nKinder lieben Snacks – und in diesem Workshop zeigen w
 ir\, wie Naschen auch gesund geht! Gemeinsam mit anderen kleinen Küchenpro
 fis bereiten die Teilnehmer:innen leckere\, bunte Snacks zu: Von Snicker-D
 atteln bis Gemüsechips ist alles dabei\, was Spaß macht und gut schmeckt –
  ganz ohne künstliche Zusätze.\nSpielerisch lernen die Kinder:\n\n\nWie ma
 n einfache\, frische Snacks selbst macht\n\n\nDass gesunde Zutaten auch su
 perlecker sein können\n\n\nUnd dass gesunder Genuss ganz einfach geht!\n\n
 \nEin tolles Ferienangebot für Kinder von 6 bis 12 Jahren – zum Mitmachen\
 , Mitnaschen und Mitnehmen!\nMontag\, 04. August 2025 | 10:00 – 12:00 UhrO
 rt: Münchner Ernährungsrat e.V.\, Milchstraße 13\, 81539 München-Haidhause
 nTeilnahmebeitrag: 15\,00 €Bitte eine kleine Box mitbringen – für die Snac
 ks zum Mitnehmen.\nJetzt anmelden\nFotos: MER\, Canva
DTSTART:20250804T080000Z
DTEND:20250804T100000Z
GEO:00;0
LOCATION:
ORGANIZER:
SEQUENCE:1
SUMMARY:Coole & gesunde Snacks: Naschen mal anders!
TRANSP:OPAQUE
URL:https://muenchner-ernaehrungsrat.de/termine/termine-kommend/coole-gesun
 de-snacks-kinderferienprogramm-muenchen-haidhausen-2025.html
END:VEVENT
END:VCALENDAR
